BEGIN:VCALENDAR
VERSION:2.0
PRODID:-//Eventin//Event Calendar//EN
CALSCALE:GREGORIAN
METHOD:PUBLISH
BEGIN:VEVENT
UID:42a1b340148e27a48b35fae74ee15514@hypereffects.com
SUMMARY:Live Well Kitsap – KitsapFest 2026
DESCRIPTION:DateJuly 11\, 2026\nTime11:00 AM – 7:00 PM\nLocationSilverdal
 e Waterfront Park3337 NW Byron StSilverdale\, WA 98383USA\nEvent Theme / Ta
 glineTogether We Can\, Live Well Kitsap\nEvent DescriptionNo matter what st
 age of life or health you are in\, there is something for everyone at Kitsa
 pFest.
LOCATION:Silverdale Waterfront Park 3337 NW Byron St Silverdale\, WA 98383 
 USA
DTSTAMP:20260421T135303Z
DTSTART:20250711T180000Z
DTEND:20260712T020000Z
END:VEVENT
END:VCALENDAR
