BEGIN:VCALENDAR
VERSION:2.0
PRODID:-//Eventin//Event Calendar//EN
CALSCALE:GREGORIAN
METHOD:PUBLISH
BEGIN:VEVENT
UID:5c6fc89589a2452b70b0cbe616456d89@hypereffects.com
SUMMARY:BNI Meeting – Waterfront Professionals
DESCRIPTION:Poulsbo BNI Members\n\nWednesday 7:45 AM\nIn-Person\nWestern Re
 d Brewing\n19168 Jensen Way NEPoulsboWA98370\n\n \n\nAttention Poulsbo BNI
  members! Take your business to the next level with Hyper Effects' exclusiv
 e marketing offers tailored for BNI professionals. From branding to digital
  growth\, we've got you covered. Don’t miss out—visit BNI Poulsbo to ex
 plore this special opportunity and elevate your success today!
LOCATION:19168 Jensen Way NE Poulsbo WA 98370
DTSTAMP:20260421T103040Z
DTSTART:20260401T114500Z
DTEND:20260930T124500Z
END:VEVENT
END:VCALENDAR
