BEGIN:VCALENDAR
VERSION:2.0
PRODID:-//Eventin//Event Calendar//EN
CALSCALE:GREGORIAN
METHOD:PUBLISH
BEGIN:VEVENT
UID:46a5e2024cd7f914de89c0ef6d49c88e@hypereffects.com
SUMMARY:BNI Meeting – Kitsap Business Leaders
DESCRIPTION:Meeting Details\n\n\n\nWednesday 3:30 PM\n\n\n\nIn-Person\n\n\n
 \nWhiskey Gulch\n\n\n\n2065 Bay StSecond FloorPort OrchardWA98366\n\n\n\nDi
 rections: The meeting is on the second floor
LOCATION:2065 Bay St Second Floor Port Orchard WA 98366
DTSTAMP:20260423T125406Z
DTSTART:20260429T223000Z
DTEND:20260429T233000Z
END:VEVENT
END:VCALENDAR
