BEGIN:VCALENDAR
VERSION:2.0
PRODID:-//Eventin//Event Calendar//EN
CALSCALE:GREGORIAN
METHOD:PUBLISH
BEGIN:VEVENT
UID:485dbf597f5c498b1bab5740041adde6@hypereffects.com
SUMMARY:BNI Meeting – Kitsap Business Leaders
DESCRIPTION:Meeting Details\n\n\n\nWednesday 3:30 PM\n\n\n\nIn-Person\n\n\n
 \nWhiskey Gulch\n\n\n\n2065 Bay StSecond FloorPort OrchardWA98366\n\n\n\nDi
 rections: The meeting is on the second floor
LOCATION:2065 Bay St Second Floor Port Orchard WA 98366
DTSTAMP:20260423T131134Z
DTSTART:20260610T223000Z
DTEND:20260610T233000Z
END:VEVENT
END:VCALENDAR
