BEGIN:VCALENDAR
VERSION:2.0
PRODID:-//Eventin//Event Calendar//EN
CALSCALE:GREGORIAN
METHOD:PUBLISH
BEGIN:VEVENT
UID:f4bea4f9e4cccdd5f03844ccc345ef08@hypereffects.com
SUMMARY:BNI Meeting – Referral Net-Works
DESCRIPTION:Kitsap Golf & Country Club\, 3885 NW Golf Club Hill Rd\n\n\n\nB
 remerton\n\n\n\n98312\n\n\n\nTuesday\, 12:00 PM
LOCATION:Kitsap Golf & Country Club\, 3885 NW Golf Club Hill Rd  Bremerton 
  98312
DTSTAMP:20260423T225821Z
DTSTART:20260609T190000Z
DTEND:20260609T200000Z
END:VEVENT
END:VCALENDAR
