BEGIN:VCALENDAR
VERSION:2.0
PRODID:-//Eventin//Event Calendar//EN
CALSCALE:GREGORIAN
METHOD:PUBLISH
BEGIN:VEVENT
UID:5599f3ffa2f002b13e042d9336194bd8@hypereffects.com
SUMMARY:BNI Meeting – Referral Net-Works
DESCRIPTION:Kitsap Golf & Country Club\, 3885 NW Golf Club Hill Rd\n\n\n\nB
 remerton\n\n\n\n98312\n\n\n\nTuesday\, 12:00 PM
LOCATION:Kitsap Golf & Country Club\, 3885 NW Golf Club Hill Rd  Bremerton 
  98312
DTSTAMP:20260423T231359Z
DTSTART:20260616T190000Z
DTEND:20260616T200000Z
END:VEVENT
END:VCALENDAR
