BEGIN:VCALENDAR
VERSION:2.0
PRODID:-//Eventin//Event Calendar//EN
CALSCALE:GREGORIAN
METHOD:PUBLISH
BEGIN:VEVENT
UID:3967e0ab9718212356e4e8f1602bbffb@hypereffects.com
SUMMARY:BNI Meeting – Referral Net-Works
DESCRIPTION:Kitsap Golf & Country Club\, 3885 NW Golf Club Hill Rd\n\n\n\nB
 remerton\n\n\n\n98312\n\n\n\nTuesday\, 12:00 PM
LOCATION:Kitsap Golf & Country Club\, 3885 NW Golf Club Hill Rd  Bremerton 
  98312
DTSTAMP:20260423T225908Z
DTSTART:20260721T190000Z
DTEND:20260721T200000Z
END:VEVENT
END:VCALENDAR
